BEGIN:VCALENDAR
VERSION:2.0
PRODID:-//Paws Squad - ECPv6.15.13//NONSGML v1.0//EN
CALSCALE:GREGORIAN
METHOD:PUBLISH
X-WR-CALNAME:Paws Squad
X-ORIGINAL-URL:https://pawssquad.ca
X-WR-CALDESC:Events for Paws Squad
REFRESH-INTERVAL;VALUE=DURATION:PT1H
X-Robots-Tag:noindex
X-PUBLISHED-TTL:PT1H
BEGIN:VTIMEZONE
TZID:America/Vancouver
BEGIN:DAYLIGHT
TZOFFSETFROM:-0800
TZOFFSETTO:-0700
TZNAME:PDT
DTSTART:20230312T100000
END:DAYLIGHT
BEGIN:STANDARD
TZOFFSETFROM:-0700
TZOFFSETTO:-0800
TZNAME:PST
DTSTART:20231105T090000
END:STANDARD
BEGIN:DAYLIGHT
TZOFFSETFROM:-0800
TZOFFSETTO:-0700
TZNAME:PDT
DTSTART:20240310T100000
END:DAYLIGHT
BEGIN:STANDARD
TZOFFSETFROM:-0700
TZOFFSETTO:-0800
TZNAME:PST
DTSTART:20241103T090000
END:STANDARD
BEGIN:DAYLIGHT
TZOFFSETFROM:-0800
TZOFFSETTO:-0700
TZNAME:PDT
DTSTART:20250309T100000
END:DAYLIGHT
BEGIN:STANDARD
TZOFFSETFROM:-0700
TZOFFSETTO:-0800
TZNAME:PST
DTSTART:20251102T090000
END:STANDARD
END:VTIMEZONE
BEGIN:VEVENT
DTSTART;TZID=America/Vancouver:20240928T080000
DTEND;TZID=America/Vancouver:20240928T170000
DTSTAMP:20260424T170120
CREATED:20240804T030111Z
LAST-MODIFIED:20240804T173230Z
UID:397-1727510400-1727542800@pawssquad.ca
SUMMARY:FALL FROLIC FUN MATCH - UKI STYLE
DESCRIPTION:Join us for a Fun Match with judge Dove Cresswell.  Outdoors on grass – rain or shine!  A great way to get your feet wet (hopefully just your feet) on UKI style courses.  Limited entry\, so enter now!  Premium can be found here.
URL:https://pawssquad.ca/event/fall-frolic-fun-match-uki-style/
LOCATION:Lower Hume Park\, 521 Fader St\, New Westminster\, British Columbia\, V3L 3T4\, Canada
END:VEVENT
END:VCALENDAR