BEGIN:VCALENDAR
VERSION:2.0
PRODID:-//Paws Squad - ECPv6.15.13//NONSGML v1.0//EN
CALSCALE:GREGORIAN
METHOD:PUBLISH
X-WR-CALNAME:Paws Squad
X-ORIGINAL-URL:https://pawssquad.ca
X-WR-CALDESC:Events for Paws Squad
REFRESH-INTERVAL;VALUE=DURATION:PT1H
X-Robots-Tag:noindex
X-PUBLISHED-TTL:PT1H
BEGIN:VTIMEZONE
TZID:America/Vancouver
BEGIN:DAYLIGHT
TZOFFSETFROM:-0800
TZOFFSETTO:-0700
TZNAME:PDT
DTSTART:20240310T100000
END:DAYLIGHT
BEGIN:STANDARD
TZOFFSETFROM:-0700
TZOFFSETTO:-0800
TZNAME:PST
DTSTART:20241103T090000
END:STANDARD
BEGIN:DAYLIGHT
TZOFFSETFROM:-0800
TZOFFSETTO:-0700
TZNAME:PDT
DTSTART:20250309T100000
END:DAYLIGHT
BEGIN:STANDARD
TZOFFSETFROM:-0700
TZOFFSETTO:-0800
TZNAME:PST
DTSTART:20251102T090000
END:STANDARD
BEGIN:DAYLIGHT
TZOFFSETFROM:-0800
TZOFFSETTO:-0700
TZNAME:PDT
DTSTART:20260308T100000
END:DAYLIGHT
BEGIN:STANDARD
TZOFFSETFROM:-0700
TZOFFSETTO:-0800
TZNAME:PST
DTSTART:20261101T090000
END:STANDARD
BEGIN:DAYLIGHT
TZOFFSETFROM:-0800
TZOFFSETTO:-0700
TZNAME:PDT
DTSTART:20270314T100000
END:DAYLIGHT
BEGIN:STANDARD
TZOFFSETFROM:-0700
TZOFFSETTO:-0800
TZNAME:PST
DTSTART:20271107T090000
END:STANDARD
END:VTIMEZONE
BEGIN:VEVENT
DTSTART;VALUE=DATE:20250712
DTEND;VALUE=DATE:20250714
DTSTAMP:20260424T040044
CREATED:20250224T014216Z
LAST-MODIFIED:20250608T010144Z
UID:411-1752278400-1752451199@pawssquad.ca
SUMMARY:Paws Squad Bye Bye Baby - Last Chance UKI Trial - SORRY\, TRIAL FULL
DESCRIPTION:Outdoors on grass\, this is your chance to get your elusive BYEs!  Join us for some fast and furious fun at beautiful and centrally located Kensington Park! \nGet your premium here.  SORRY FOLKS\, THE TRIAL IS NOW FULL
URL:https://pawssquad.ca/event/paws-squad-bye-bye-baby-last-chance-uki-trial/
LOCATION:Burnaby Lake Sports Complex\, 3677 Kensington Ave \, Burnaby\, BC\, Canada
END:VEVENT
BEGIN:VEVENT
DTSTART;VALUE=DATE:20251122
DTEND;VALUE=DATE:20251123
DTSTAMP:20260424T040044
CREATED:20250908T020336Z
LAST-MODIFIED:20250912T022213Z
UID:432-1763769600-1763855999@pawssquad.ca
SUMMARY:UKI-CURIOUS?  TRY IT OUT AT OUR FUN MATCH
DESCRIPTION:SORRY – THE FUN MATCH IS FULL. \nFor the UKI-curious!  We are holding a UKI style fun match and invite you to join us\, with distinguished judge Tracey Mallison.  It’s already filling FAST so get your entry in now! \nEntries Close: Nov 16\, 2025 or when full.  Online/Electronic Form Entry ONLY \n 
URL:https://pawssquad.ca/event/uki-curious-try-it-out-at-our-fun-match/
LOCATION:BC
END:VEVENT
BEGIN:VEVENT
DTSTART;TZID=America/Vancouver:20260327T160000
DTEND;TZID=America/Vancouver:20260327T210000
DTSTAMP:20260424T040044
CREATED:20260115T023345Z
LAST-MODIFIED:20260115T024047Z
UID:466-1774627200-1774645200@pawssquad.ca
SUMMARY:FRIDAY NIGHT PAWTY SERIES AT TWIN CREEKS RANCH
DESCRIPTION:Join us for a Friday night UKI Speedstakes Gast and Furious Event with esteemed judge Tracey Mallison! \nDownload the premium here  SORRY THIS EVENT IS FULL!
URL:https://pawssquad.ca/event/friday-night-pawty-series-at-twin-creeks-ranch-2/
LOCATION:Twin Creeks Ranch\, 26025 48 Ave\, Langley\, BC\, V4W 1J6\, Canada
END:VEVENT
BEGIN:VEVENT
DTSTART;TZID=America/Vancouver:20260501T160000
DTEND;TZID=America/Vancouver:20260501T210000
DTSTAMP:20260424T040044
CREATED:20260115T023141Z
LAST-MODIFIED:20260115T023730Z
UID:462-1777651200-1777669200@pawssquad.ca
SUMMARY:FRIDAY NIGHT PAWTY SERIES AT TWIN CREEKS RANCH
DESCRIPTION:MORE INFORMATION AND PREMIUM COMING SOON
URL:https://pawssquad.ca/event/friday-night-pawty-series-at-twin-creeks-ranch/
LOCATION:Twin Creeks Ranch\, 26025 48 Ave\, Langley\, BC\, V4W 1J6\, Canada
END:VEVENT
BEGIN:VEVENT
DTSTART;TZID=America/Vancouver:20260605T160000
DTEND;TZID=America/Vancouver:20260605T210000
DTSTAMP:20260424T040044
CREATED:20260115T023454Z
LAST-MODIFIED:20260115T023454Z
UID:468-1780675200-1780693200@pawssquad.ca
SUMMARY:FRIDAY NIGHT PAWTY SERIES AT TWIN CREEKS RANCH
DESCRIPTION:MORE INFORMATION AND PREMIIUM COMING SOON!
URL:https://pawssquad.ca/event/friday-night-pawty-series-at-twin-creeks-ranch-3/
LOCATION:Twin Creeks Ranch\, 26025 48 Ave\, Langley\, BC\, V4W 1J6\, Canada
END:VEVENT
BEGIN:VEVENT
DTSTART;TZID=America/Vancouver:20260711T080000
DTEND;TZID=America/Vancouver:20260712T170000
DTSTAMP:20260424T040044
CREATED:20260115T023621Z
LAST-MODIFIED:20260115T023621Z
UID:470-1783756800-1783875600@pawssquad.ca
SUMMARY:TRIAL BY FIRE - UKI
DESCRIPTION:OUR SMOKIN’ HOT ANNUAL OUTDOORS-ON-GRASS SUMMER TRIAL.  MORE INFORMATION AND PREMIUM COMING SOON!
URL:https://pawssquad.ca/event/trial-by-fire-uki/
LOCATION:Burnaby Lake Sports Complex\, 3677 Kensington Ave \, Burnaby\, BC\, Canada
END:VEVENT
END:VCALENDAR