BEGIN:VCALENDAR
VERSION:2.0
PRODID:-//Paws Squad - ECPv6.15.13//NONSGML v1.0//EN
CALSCALE:GREGORIAN
METHOD:PUBLISH
X-WR-CALNAME:Paws Squad
X-ORIGINAL-URL:https://pawssquad.ca
X-WR-CALDESC:Events for Paws Squad
REFRESH-INTERVAL;VALUE=DURATION:PT1H
X-Robots-Tag:noindex
X-PUBLISHED-TTL:PT1H
BEGIN:VTIMEZONE
TZID:America/Vancouver
BEGIN:DAYLIGHT
TZOFFSETFROM:-0800
TZOFFSETTO:-0700
TZNAME:PDT
DTSTART:20140309T100000
END:DAYLIGHT
BEGIN:STANDARD
TZOFFSETFROM:-0700
TZOFFSETTO:-0800
TZNAME:PST
DTSTART:20141102T090000
END:STANDARD
BEGIN:DAYLIGHT
TZOFFSETFROM:-0800
TZOFFSETTO:-0700
TZNAME:PDT
DTSTART:20150308T100000
END:DAYLIGHT
BEGIN:STANDARD
TZOFFSETFROM:-0700
TZOFFSETTO:-0800
TZNAME:PST
DTSTART:20151101T090000
END:STANDARD
BEGIN:DAYLIGHT
TZOFFSETFROM:-0800
TZOFFSETTO:-0700
TZNAME:PDT
DTSTART:20160313T100000
END:DAYLIGHT
BEGIN:STANDARD
TZOFFSETFROM:-0700
TZOFFSETTO:-0800
TZNAME:PST
DTSTART:20161106T090000
END:STANDARD
BEGIN:DAYLIGHT
TZOFFSETFROM:-0800
TZOFFSETTO:-0700
TZNAME:PDT
DTSTART:20170312T100000
END:DAYLIGHT
BEGIN:STANDARD
TZOFFSETFROM:-0700
TZOFFSETTO:-0800
TZNAME:PST
DTSTART:20171105T090000
END:STANDARD
END:VTIMEZONE
BEGIN:VEVENT
DTSTART;TZID=America/Vancouver:20160617T080000
DTEND;TZID=America/Vancouver:20160619T170000
DTSTAMP:20260424T024753
CREATED:20160303T200838Z
LAST-MODIFIED:20160303T201004Z
UID:135-1466150400-1466355600@pawssquad.ca
SUMMARY:BC/Yukon Regional Agility Championships
DESCRIPTION:Paws Squad members will be competing at the BC/Yukon Regional Agility Championships in June 2016!  Join us and see some of the top regional talent compete! \n \n 
URL:https://pawssquad.ca/event/bcyukon-regional-agility-championships/
LOCATION:Thunderbird Equestrian Show Park\, 24550 72 Ave\, Langley BC\, British Columbia\, V1M 3W8\, Canada
END:VEVENT
BEGIN:VEVENT
DTSTART;TZID=America/Vancouver:20160528T100000
DTEND;TZID=America/Vancouver:20160528T140000
DTSTAMP:20260424T024753
CREATED:20160303T195550Z
LAST-MODIFIED:20160303T195550Z
UID:128-1464429600-1464444000@pawssquad.ca
SUMMARY:Collingwood Days Festival Outdoor Demo
DESCRIPTION:
URL:https://pawssquad.ca/event/collingwood-days-festival-outdoor-demo/
LOCATION:Carleton Elementary School\, 3250 Kingsway\, Vancouver\, British Columbia\, V5R 5K5\, Canada
END:VEVENT
BEGIN:VEVENT
DTSTART;TZID=America/Vancouver:20150725T080000
DTEND;TZID=America/Vancouver:20150726T170000
DTSTAMP:20260424T024753
CREATED:20150623T122730Z
LAST-MODIFIED:20160727T004826Z
UID:5-1437811200-1437930000@pawssquad.ca
SUMMARY:AAC Trial
DESCRIPTION:TRIAL FULL!  ENTRIES CLOSED.  THANK YOU. \nOutdoors on grass. \nDownload trial premium here: Paws Squad Trial Premium 2015
URL:https://pawssquad.ca/event/aac-trial/
LOCATION:Burnaby Lake Sports Complex\, 3677 Kensington Ave \, Burnaby\, BC\, Canada
END:VEVENT
END:VCALENDAR